BEGIN:VCALENDAR
VERSION:2.0
PRODID:-//ChamberMaster//Event Calendar 2.0//EN
METHOD:PUBLISH
X-PUBLISHED-TTL:P3D
REFRESH-INTERVAL:P3D
CALSCALE:GREGORIAN
BEGIN:VEVENT
DTSTART:20141111T123000Z
DTEND:20141111T170000Z
X-MICROSOFT-CDO-ALLDAYEVENT:FALSE
SUMMARY:PHMS Veterans Day Celebration
DESCRIPTION:Pleasant Hill Middle School honors veterans and their families with a breakfast and assembly. Lexington High AFJROTC will post the colors. During the assembly\, veterans will share their experiences of serving during various wars and conflicts. Students will present the veterans with letters\, poems and posters. There will also be patriotic music presented by the PHMS Chorus and a presentation of the "White Table" in honor of fallen soldiers.
X-ALT-DESC;FMTTYPE=text/html:Pleasant Hill Middle School honors veterans and their families with a breakfast and assembly. Lexington High AFJROTC will post the colors. During the assembly\, veterans will share their experiences of serving during various wars and conflicts. Students will present the veterans with letters\, poems and posters. There will also be patriotic music presented by the PHMS Chorus and a presentation of the &quot\;White Table&quot\; in honor of fallen soldiers.&nbsp\;
LOCATION:Pleasant Hill Middle School
UID:e.795.3979
SEQUENCE:3
DTSTAMP:20260422T174637Z
URL:https://members.lexingtonsc.org/events/details/phms-veterans-day-celebration-11-11-2014-3979
END:VEVENT

END:VCALENDAR
