BEGIN:VCALENDAR
VERSION:2.0
PRODID:-//ChamberMaster//Event Calendar 2.0//EN
METHOD:PUBLISH
X-PUBLISHED-TTL:P3D
REFRESH-INTERVAL:P3D
CALSCALE:GREGORIAN
BEGIN:VEVENT
DTSTART:20141206T160000Z
DTEND:20141206T200000Z
X-MICROSOFT-CDO-ALLDAYEVENT:FALSE
SUMMARY:Mrs. Santa Day
DESCRIPTION:Wingard's Nursery - Mrs. Santa Day: While Santa Claus is getting the sleigh and gifts ready for his long ride\, come out and meet Mrs. Santa. She will read the kids a Christmas story\, while enjoying some hot cider and cookies\, and don't forget\, The Christmas Train will be here for the children.
X-ALT-DESC;FMTTYPE=text/html:Wingard&#39\;s Nursery - Mrs. Santa Day: While Santa Claus is getting the sleigh and gifts ready for his long ride\, come out and meet Mrs. Santa. She will read the kids a Christmas story\, while enjoying some hot cider and cookies\, and don&#39\;t forget\, The Christmas Train will be here for the children.&nbsp\;
LOCATION:Wingard's Nursery - 1403 North Lake Drive (Hwy. 6)\, Lexington\, SC 29072\; Between Lexington and the Lake Murray Dam.
UID:e.795.3754
SEQUENCE:3
DTSTAMP:20260423T215757Z
URL:https://members.lexingtonsc.org/events/details/mrs-santa-day-12-06-2014-3754
END:VEVENT

END:VCALENDAR
