BEGIN:VCALENDAR
VERSION:2.0
PRODID:-//ChamberMaster//Event Calendar 2.0//EN
METHOD:PUBLISH
X-PUBLISHED-TTL:P3D
REFRESH-INTERVAL:P3D
CALSCALE:GREGORIAN
BEGIN:VEVENT
DTSTART:20140518T194000Z
DTEND:20140518T210000Z
X-MICROSOFT-CDO-ALLDAYEVENT:FALSE
SUMMARY:Joggling Board Press Presents...
DESCRIPTION:Joggling Board Press Presents...Tap Into Your Creative Mind and Write Your Story One Moment At A Time. Few people have a whole book in them\, but everyone has life stories-moments of their lives-to capture and share. Join acclaimed book publisher and author Susan Kammeraad-Campbell for a Storyboard workshop\, a national initiative to help individuals tap into their memories and creative imagination and discover how they can write and share their story one "pearl" at at time. Through innovative\, often playful methods\, participants will be amazed at the treasure trove of memories\, ideas and images that percolate to the surface and onto the page. Joining Kammeraad-Campbell will be retired Delta pilot and author Steve Taylor\, who will share a pearl from his new book Wheels Up: Sky Jinks in the Jet Age (Joggling Board Press\, 2014). Many of the stories in Taylor's book come out of the high-octane environment of the cockpit. Some will give you pause and make you think\, some will  knock the wind out of you\, and some will make you throw your head back and laugh. All are examples of what can happen when you tap into memory\, form a story and share it.  For those interested\, potential publication and broadcast through radio and podcasts are features of the Storyboard experience\, which will be described at the workshop.
X-ALT-DESC;FMTTYPE=text/html:Joggling Board Press Presents...Tap Into Your Creative Mind and Write Your Story One Moment At A Time. Few people have a whole book in them\, but everyone has life stories-moments of their lives-to capture and share. Join acclaimed book publisher and author Susan Kammeraad-Campbell for a Storyboard workshop\, a national initiative to help individuals tap into their memories and creative imagination and discover how they can write and share their story one &quot\;pearl&quot\; at at time. Through innovative\, often playful methods\, participants will be amazed at the treasure trove of memories\, ideas and images that percolate to the surface and onto the page. Joining Kammeraad-Campbell will be retired Delta pilot and author Steve Taylor\, who will share a pearl from his new book Wheels Up: Sky Jinks in the Jet Age (Joggling Board Press\, 2014). Many of the stories in Taylor&#39\;s book come out of the high-octane environment of the cockpit. Some will give you pause and make you think\, some will &nbsp\;knock the wind out of you\, and some will make you throw your head back and laugh. All are examples of what can happen when you tap into memory\, form a story and share it. &nbsp\;For those interested\, potential publication and broadcast through radio and podcasts are features of the Storyboard experience\, which will be described at the workshop.
LOCATION:Lexington Meeting Room B - Seating is on a first-come\, first-served basis
UID:e.795.3683
SEQUENCE:3
DTSTAMP:20260424T043438Z
URL:https://members.lexingtonsc.org/events/details/joggling-board-press-presents-05-18-2014-3683
END:VEVENT

END:VCALENDAR
