BEGIN:VCALENDAR
VERSION:2.0
PRODID:-//ChamberMaster//Event Calendar 2.0//EN
METHOD:PUBLISH
X-PUBLISHED-TTL:P3D
REFRESH-INTERVAL:P3D
CALSCALE:GREGORIAN
BEGIN:VEVENT
DTSTART:20140405T140000Z
DTEND:20140406T220000Z
X-MICROSOFT-CDO-ALLDAYEVENT:FALSE
SUMMARY:Columbia Open Studios
DESCRIPTION:701 CCA Presents: Columbia Open Studios\; April 5-6\, 2014\; Saturday\, April 5\, 2014 from 10:00am-6:00pm and Sunday\, April 6\, 2014 from 12:00pm-6:00-pm. This is a free\, self-led driving tour of artists' working studios spanning the City of Columbia and Richland and Lexington Counties\, showcasing the Midlands' talented visual art community. By organizing this weekend-long tour of artists' studios\, the nonprofit 701 CCA hopes to achieve the following: Provide easy access for the community to visit visual arts\; Expose the public to the wealth of fine artists in Columbia & Richland & Lexington Counties\; Create new marketing opportunities for artists\; Generate excitement about area artists among seasoned collectors and first-time buyers\; Further establish Columbia\, SC as a top destination for cultural tourism.
X-ALT-DESC;FMTTYPE=text/html:701 CCA Presents: Columbia Open Studios\; April 5-6\, 2014\; Saturday\, April 5\, 2014 from 10:00am-6:00pm and Sunday\, April 6\, 2014 from 12:00pm-6:00-pm. This is a free\, self-led driving tour of artists&#39\; working studios spanning the City of Columbia and Richland and Lexington Counties\, showcasing the Midlands&#39\; talented visual art community. By organizing this weekend-long tour of artists&#39\; studios\, the nonprofit 701 CCA hopes to achieve the following: Provide easy access for the community to visit visual arts\; Expose the public to the wealth of fine artists in Columbia &amp\; Richland &amp\; Lexington Counties\; Create new marketing opportunities for artists\; Generate excitement about area artists among seasoned collectors and first-time buyers\; Further establish Columbia\, SC as a top destination for cultural tourism.
LOCATION:
UID:e.795.3389
SEQUENCE:3
DTSTAMP:20260421T220446Z
URL:https://members.lexingtonsc.org/events/details/columbia-open-studios-04-05-2014-3389
END:VEVENT

END:VCALENDAR
