BEGIN:VCALENDAR
VERSION:2.0
PRODID:-//ChamberMaster//Event Calendar 2.0//EN
METHOD:PUBLISH
X-PUBLISHED-TTL:P3D
REFRESH-INTERVAL:P3D
CALSCALE:GREGORIAN
BEGIN:VEVENT
DTSTART:20140325T130000Z
DTEND:20140327T200000Z
X-MICROSOFT-CDO-ALLDAYEVENT:FALSE
SUMMARY:911 Never Forget Mobile Exhibit
DESCRIPTION:Stephen Siller Tunnel to Towers Foundation's 9/11 Never Forget Mobile Exhibit will be in Columbia\, SC from March 25 - 27. This 1\,000-sq-ft museum travels the US honoring the heroism and patriotism of those who lost their lives on September 11\, 2001. It also teaches communities about the historic events of that day with artifacts\, news and video recordings\, and live tours led by New York City Fire Department heroes.
X-ALT-DESC;FMTTYPE=text/html:Stephen Siller Tunnel to Towers Foundation&#39\;s 9/11 Never Forget Mobile Exhibit will be in Columbia\, SC from March 25 - 27. This 1\,000-sq-ft museum travels the US honoring the heroism and patriotism of those who lost their lives on September 11\, 2001. It also teaches communities about the historic events of that day with artifacts\, news and video recordings\, and live tours led by New York City Fire Department heroes.
LOCATION:Columbia Metropolitan Convention Center - South Carolina State House - Fort Jackson Hilton Field
UID:e.795.3523
SEQUENCE:3
DTSTAMP:20260421T214116Z
URL:https://members.lexingtonsc.org/events/details/911-never-forget-mobile-exhibit-03-25-2014-3523
END:VEVENT

END:VCALENDAR
